BEGIN:VCALENDAR
VERSION:2.0
PRODID:-//Business Northumberland - ECPv6.10.2//NONSGML v1.0//EN
CALSCALE:GREGORIAN
METHOD:PUBLISH
X-WR-CALNAME:Business Northumberland
X-ORIGINAL-URL:https://www.businessnorthumberland.co.uk
X-WR-CALDESC:Events for Business Northumberland
REFRESH-INTERVAL;VALUE=DURATION:PT1H
X-Robots-Tag:noindex
X-PUBLISHED-TTL:PT1H
BEGIN:VTIMEZONE
TZID:UTC
BEGIN:STANDARD
TZOFFSETFROM:+0000
TZOFFSETTO:+0000
TZNAME:UTC
DTSTART:20250101T000000
END:STANDARD
END:VTIMEZONE
BEGIN:VEVENT
DTSTART;TZID=UTC:20250303T080000
DTEND;TZID=UTC:20250303T170000
DTSTAMP:20260420T185204
CREATED:20250303T112540Z
LAST-MODIFIED:20250303T112540Z
UID:1531-1740988800-1741021200@www.businessnorthumberland.co.uk
SUMMARY:Tourism Week: Tackling Technical SEO for Small Businesses
DESCRIPTION:This session is relatively technical by nature. One of the three component pillars of effective SEO\, the technical aspects of SEO are paramount in order to increase visibility within the search engines.\n\nThis workshop covers:\n● Introduction to the concepts of Technical SEO\n● Technical SEO components\n● How to conduct an initial technical website SEO audit\n● Technical SEO Checklist\n\nThis event or resource is for eligible businesses that have been approved on the Northumberland Small Business Service. Register here. 
URL:https://www.businessnorthumberland.co.uk/event/tourism-week-tackling-technical-seo-for-small-businesses/
LOCATION:Online
CATEGORIES:Growth & Resilience
ATTACH;FMTTYPE=image/jpeg:https://www.businessnorthumberland.co.uk/wp-content/uploads/2025/03/ydf-31-scaled-1.jpg
END:VEVENT
BEGIN:VEVENT
DTSTART;TZID=UTC:20250217T173000
DTEND;TZID=UTC:20250217T200000
DTSTAMP:20260420T185204
CREATED:20250205T092849Z
LAST-MODIFIED:20250218T115204Z
UID:1423-1739813400-1739822400@www.businessnorthumberland.co.uk
SUMMARY:Boost your online sales
DESCRIPTION:Are you a product-based business owner in Ashington\, Guidepost\, Longhirst\, or Pegswood? Whether you run a retail shop or work from home\, this hands-on workshop is tailored for you! \n🗓 Focus: Boost your online sales\n📅 Date: Monday 17 February 2025\n🕒 Time: 5:30pm – 8.00pm\n📍 Venue: Nurtch Coffee House\, Ashington \nJoin us for an interactive evening designed to help you reflect\, review\, and enhance your digital presence. This workshop will cover essential elements for driving sales through your website and online platforms\, including: \nKey pages every website needs and what they should include.\nWriting compelling product descriptions that convert browsers into buyers.\nTools and strategies to elevate your online presence. \nAfter the workshop\, you’ll also have the opportunity to apply for 12 months of free subscription to Mayfli\, the online marketplace and community designed for local businesses by local businesses. \nRegister your interest here: https://www.eventbrite.co.uk/e/boost-your-online-sales-digital-presence-for-product-based-businesses-tickets-1204796802669?aff=oddtdtcreator \nThis programme is funded by the UK Government’s Shared Prosperity Fund\, with the North East Combined Authority as the lead authority. \n#BusinessGrowth #EntrepreneurSupport #StartupWorkshop #AccelerateAshington #Northumberland #FreeWorkshop #SmallBusinessHelp #SmallBusinessSupport
URL:https://www.businessnorthumberland.co.uk/event/boost-your-online-sales/
LOCATION:Nurtch Coffee House\, 122 Milburn Road\, Ashington\, Northumberland\, NE63 0PQ\, United Kingdom
ATTACH;FMTTYPE=image/png:https://www.businessnorthumberland.co.uk/wp-content/uploads/2025/02/Ashington-High-Street.png
END:VEVENT
END:VCALENDAR